BEGIN:VCALENDAR
VERSION:2.0
PRODID:icalendar-ruby
CALSCALE:GREGORIAN
METHOD:PUBLISH
BEGIN:VEVENT
DTSTAMP:20260425T213301Z
UID:24-441280@kingsleyavecofc.com
DTSTART:20261101T150000Z
DTEND:20261101T154500Z
CLASS:PUBLIC
CREATED:20260425T154506
DESCRIPTION:We want to invite you to join us for Bible Class every Sunday p
 rior to our worship service.\nFrom the author of our study:\n"This booklet
  is set forth by the writer with the desire that all believers will come t
 o the unity of the faith (Eph. 4:3-7). An effort has been made to present 
 the first principles of Christianity. We have tried to "give answer to eve
 ry man that asketh you a reason concerning the hope that is in you" (I Pet
 er 3:15).
LAST-MODIFIED:20260425T154506
LOCATION:1365 Kingsley Avenue\, Orange Park\, Florida\, 32067
SUMMARY:Basic Bible Doctrine Bible Class
URL;VALUE=URI:https://kingsleyavecofc.com/events/basic-bible-doctrine-bible
 -class/2026-11-01
END:VEVENT
END:VCALENDAR
